BEGIN:VCALENDAR
VERSION:2.0
PRODID:-//wp-events-plugin.com//7.2.3.1//EN
TZID:Europe/Paris
X-WR-TIMEZONE:Europe/Paris
BEGIN:VEVENT
UID:66@brasseriedekatsbier.com
DTSTART;TZID=Europe/Paris;VALUE=DATE:20250710
DTEND;TZID=Europe/Paris;VALUE=DATE:20250714
DTSTAMP:20250326T123423Z
URL:https://www.brasseriedekatsbier.com/evenements/voiles-de-legende-dunke
 rque/
SUMMARY:Voiles de Légende - Dunkerque
DESCRIPTION:\nLes plus beaux voiliers du monde font escale à Dunkerque\n\n
 Venez admirer des voiliers majestueux\, rencontrer des marins du monde ent
 ier et participer à des festivités gratuites pour toute la famille !\n\
 nVOILES DE LEGENDE : célébrons ensemble le patrimoine maritime et l'espr
 it de la mer dans une ambiance conviviale et inoubliable...\n\nLes Tall Sh
 ips Races sont des courses internationales de grands voiliers organisées 
 chaque été en Europe. Ces courses rassemblent des navires traditionnels\
 , souvent équipés de voiles carrées\, et permettent à des équipages\,
  dont de nombreux jeunes participants\, de vivre une expérience unique en
  mer.\n\nDunkerque sera ville étape de cette course emblématique et s
 ’engage a financer 200 jeunes qui ont entre 15 et 25 ans afin de leur pe
 rmettre de participer à l’une des deux étapes de la course en 2025.\n\
 nPour cette occasion\, la Brasserie De katsbier sera présente sur place a
 vec notre conteneur bar !\n\nRendez-vous à Dunkerque du 10 au 13 juillet 
 2025 !
ATTACH;FMTTYPE=image/jpeg:https://www.brasseriedekatsbier.com/wp-content/u
 ploads/2025/03/afficheVoilesdeLegende2025.jpg
CATEGORIES:Festival
END:VEVENT
BEGIN:VTIMEZONE
TZID:Europe/Paris
X-LIC-LOCATION:Europe/Paris
BEGIN:DAYLIGHT
DTSTART:20250330T030000
TZOFFSETFROM:+0100
TZOFFSETTO:+0200
TZNAME:CEST
END:DAYLIGHT
END:VTIMEZONE
END:VCALENDAR