BEGIN:VCALENDAR
VERSION:2.0
PRODID:-//wp-events-plugin.com//7.2.3.1//EN
TZID:Europe/Paris
X-WR-TIMEZONE:Europe/Paris
BEGIN:VEVENT
UID:62@brasseriedekatsbier.com
DTSTART;TZID=Europe/Paris:20250927T000000
DTEND;TZID=Europe/Paris:20250928T000000
DTSTAMP:20250323T141551Z
URL:https://www.brasseriedekatsbier.com/evenements/marathon-de-la-biere-be
 rgues-2/
SUMMARY:Marathon de la Bière - Bergues
DESCRIPTION:Préparez-vous à une explosion de saveurs et de bonne humeur
  dans le village d’arrivée du Marathon Bière Flandres Festival. Aprè
 s l’effort\, on s’occupe du réconfort de vos gambettes et de vos gos
 iers. Sur cette terre de houblon que sont les Flandres\, plusieurs brasser
 ies de la région vous accueilleront pour vous proposer de déguster leurs
  bières et vous faire découvrir leur savoir-faire. Echanges conviviaux\,
  découvertes gustatives et moments de partage autour d’un produit pha
 re de notre région\, voilà la promesse de ce festival inédit. Aux manet
 tes de l’organisation ? Les équipes de L’Echappée Bière\, spécial
 istes des événements autour de la bière artisanale (BAL\, Festival des 
 Bières d’Abbaye\, Oktoberfest etc…)\nEt comme on ne vit pas que de ho
 ublon et d’eau fraîche\, food trucks\, frites et bons petits plats sero
 nt également là pour vous régaler.\nCôté ambiance\, retrouvez des esp
 aces aménagés pour vous relaxer et vous détendre entre deux dégustatio
 ns. Pour les runners\, il y aura des stands avec matériel spécialisé 
 (dernier cri) pour vous équiper.  Et parce qu'ici\, dans le Nord\, on sa
 it faire la fête comme personne\, des concerts seront évidemment progr
 ammés. Pour s’étirer\, se déhancher\, s’enjailler et faire la fête
  tous ensemble !\nBref\, préparez-vous à vivre un moment inoubliable\, 
 où la chaleur humaine rivalise avec la fraîcheur de nos bières\, et où
  la convivialité du Nord de la France se dévoilera dans toute sa splende
 ur.\nOn vous attend toutes et tous pour faire de ce Marathon Bière Flandr
 e Festival un événement qui résonnera bien au-delà des Hauts-de-France
  !
ATTACH;FMTTYPE=image/jpeg:https://www.brasseriedekatsbier.com/wp-content/u
 ploads/2025/03/marathonbierebergues.jpg
CATEGORIES:Festival
END:VEVENT
BEGIN:VTIMEZONE
TZID:Europe/Paris
X-LIC-LOCATION:Europe/Paris
BEGIN:DAYLIGHT
DTSTART:20250330T030000
TZOFFSETFROM:+0100
TZOFFSETTO:+0200
TZNAME:CEST
END:DAYLIGHT
END:VTIMEZONE
END:VCALENDAR