BEGIN:VCALENDAR
VERSION:2.0
PRODID:-//wp-events-plugin.com//7.2.3.1//EN
TZID:Europe/Paris
X-WR-TIMEZONE:Europe/Paris
BEGIN:VEVENT
UID:69@brasseriedekatsbier.com
DTSTART;TZID=Europe/Paris;VALUE=DATE:20251108
DTEND;TZID=Europe/Paris;VALUE=DATE:20251110
DTSTAMP:20250608T122150Z
URL:https://www.brasseriedekatsbier.com/evenements/gambrinus-fest-salon-de
 s-bieres-de-noel/
SUMMARY:Gambrinus Fest - Salon des bières de noël
DESCRIPTION:Le Festival des bières de noël et d'hiver revient à Béthune
  Salle Olof Palme (Centre commercial Auchan) à Béthune les 8 et 9 novemb
 re 2025.\n\n&nbsp\;
ATTACH;FMTTYPE=image/jpeg:https://www.brasseriedekatsbier.com/wp-content/u
 ploads/2025/06/1728476756-626915646.jpg
CATEGORIES:Salon
LOCATION:salle olof palme\, salle olof palme\, béthune\, France
GEO:50.522022;2.629479
X-APPLE-STRUCTURED-LOCATION;VALUE=URI;X-ADDRESS=salle olof palme\, béthune
 \, France;X-APPLE-RADIUS=100;X-TITLE=salle olof palme:geo:50.522022,2.6294
 79
END:VEVENT
BEGIN:VTIMEZONE
TZID:Europe/Paris
X-LIC-LOCATION:Europe/Paris
BEGIN:STANDARD
DTSTART:20251026T020000
TZOFFSETFROM:+0200
TZOFFSETTO:+0100
TZNAME:CET
END:STANDARD
END:VTIMEZONE
END:VCALENDAR