BEGIN:VCALENDAR
VERSION:2.0
PRODID:-//wp-events-plugin.com//7.2.3.1//EN
TZID:Europe/Paris
X-WR-TIMEZONE:Europe/Paris
BEGIN:VEVENT
UID:70@brasseriedekatsbier.com
DTSTART;TZID=Europe/Paris:20250913T000000
DTEND;TZID=Europe/Paris:20250914T000000
DTSTAMP:20250711T072051Z
URL:https://www.brasseriedekatsbier.com/evenements/festi-beer-neuve-chapel
 le/
SUMMARY:Festi Beer Neuve Chapelle
DESCRIPTION: Le Festi Beer revient pour une nouvelle édition exceptionnel
 le ! \n\nRendez-vous les samedi 13 septembre de 11h à 1h et dimanche 14 
 septembre de 11h à 20h au Parc de loisirs de Neuve-Chapelle (ruelle du Cu
 ré) pour un week-end festif placé sous le signe de la convivialité et d
 e la découverte !\n\n Au programme :\n• 15 brasseries artisanales et l
 ocales à découvrir\n• DJ sets &amp\; concerts live\n• Foodtrucks gou
 rmands\n• Expo artisanale\n• Jeux anciens &amp\; jeux gonflables pour 
 petits et grands\n\nNOUVEAUTÉ : Cochon grillé le dimanche midi – sur r
 éservation ! \n Ambiance garantie pour toute la famille ! Venez passer 
 un moment chaleureux autour d’une bière artisanale et laissez-vous empo
 rter par la musique et les animations.\n\n- Entrée libre- Packs dégustat
 ion en vente sur place\n\nLa Brasserie De Katsbier sera présente\, comme 
 en 2024\, à cet événement !
ATTACH;FMTTYPE=image/jpeg:https://www.brasseriedekatsbier.com/wp-content/u
 ploads/2025/07/497841174_122151815408396227_9144617656972803806_n.jpg
CATEGORIES:Festival
END:VEVENT
BEGIN:VTIMEZONE
TZID:Europe/Paris
X-LIC-LOCATION:Europe/Paris
BEGIN:DAYLIGHT
DTSTART:20250330T030000
TZOFFSETFROM:+0100
TZOFFSETTO:+0200
TZNAME:CEST
END:DAYLIGHT
END:VTIMEZONE
END:VCALENDAR